BEGIN:VCALENDAR
VERSION:2.0
PRODID:-//Tukios.com/
BEGIN:VEVENT
UID:e60110de-89ff-47dd-a1a3-ddf7fea83162@www.mccoyfuneralhometx.com
DTSTAMP:20260422T062054Z
DTSTART:20260501T220000Z
DTEND:20260502T000000Z
SUMMARY:Viewing
DESCRIPTION:
URL:https://www.mccoyfuneralhometx.com/obituaries/reginald-smith
LOCATION: 501 W Oak St  Palestine TX 75801
GEO:31.7628732;-95.6359939
END:VEVENT
END:VCALENDAR