BEGIN:VCALENDAR
VERSION:2.0
PRODID:-//Tukios.com/
BEGIN:VEVENT
UID:7156a8ce-3097-4ba1-9016-11ed640eba7a@www.mccoyfuneralhometx.com
DTSTAMP:20260422T062810Z
DTSTART:20260502T160000Z
DTEND:20260502T180000Z
SUMMARY:Funeral Service
DESCRIPTION:
URL:https://www.mccoyfuneralhometx.com/obituaries/reginald-smith
LOCATION:Reaping The Harvest Church of God in Christ 421 West Coronaca 
	Street  Palestine TX 75803
GEO:31.7711371;-95.638521
END:VEVENT
END:VCALENDAR